BEGIN:VCALENDAR
VERSION:2.0
PRODID:SchoolNow
CALSCALE:GREGORIAN
BEGIN:VEVENT
UID:4dcfe8fa-300f-11f0-915d-02cc0c8379f7
DTSTAMP:20251216T154522Z
SUMMARY:TIME TBD- SOCCER-V Girls @ Our Lady of Tepeyac (Game)
LOCATION:Away - Our Lady of Tepeyac
URL;VALUE=URI:https://www.cusd201.org/whs/athletics/calendar/8127816/time-t
 bd-soccer-v-girls-our-lady-of-tepeyac-game
DTSTART:20260414T050000Z
DTEND:20260415T045900Z
END:VEVENT
END:VCALENDAR
