BEGIN:VCALENDAR
VERSION:2.0
PRODID:SchoolNow
CALSCALE:GREGORIAN
BEGIN:VEVENT
UID:4dcfe9e0-300f-11f0-956a-02cc0c8379f7
DTSTAMP:20251216T154523Z
SUMMARY:TIME TBD- SOCCER-V Girls @ Rochelle Zell (Game)
LOCATION:Away - Rochelle Zell
URL;VALUE=URI:https://www.cusd201.org/whs/athletics/calendar/8127817/time-t
 bd-soccer-v-girls-rochelle-zell-game
DTSTART:20260421T050000Z
DTEND:20260422T045900Z
END:VEVENT
END:VCALENDAR
