BEGIN:VCALENDAR
VERSION:2.0
PRODID:SchoolNow
CALSCALE:GREGORIAN
BEGIN:VEVENT
UID:4dcfeab2-300f-11f0-a654-02cc0c8379f7
DTSTAMP:20251216T154523Z
SUMMARY:TIME TBD- SOCCER-V Girls @ Walther Christian Academy (Game)
LOCATION:Away - Walther Christian Academy
URL;VALUE=URI:https://www.cusd201.org/whs/athletics/calendar/8127818/time-t
 bd-soccer-v-girls-walther-christian-academy-game
DTSTART:20260428T050000Z
DTEND:20260429T045900Z
END:VEVENT
END:VCALENDAR
