BEGIN:VCALENDAR
VERSION:2.0
PRODID:SchoolNow
CALSCALE:GREGORIAN
BEGIN:VEVENT
UID:4dcfec60-300f-11f0-a887-02cc0c8379f7
DTSTAMP:20251216T154523Z
SUMMARY:TIME TBD- SOCCER-V Girls - VS Chicago Prep Conference Tournament (G
 ame)
LOCATION:HOME - Westmont HS Stadium
URL;VALUE=URI:https://www.cusd201.org/whs/athletics/calendar/8127820/time-t
 bd-soccer-v-girls-vs-chicago-prep-conference-tournament-game
DTSTART:20260512T050000Z
DTEND:20260513T045900Z
END:VEVENT
END:VCALENDAR
