BEGIN:VCALENDAR
VERSION:2.0
PRODID:SchoolNow
CALSCALE:GREGORIAN
BEGIN:VEVENT
UID:4dcfed32-300f-11f0-8d0d-02cc0c8379f7
DTSTAMP:20251216T154522Z
SUMMARY:TIME TBD- SOCCER-V Girls - VS Chicago Prep Conference Tournament (G
 ame)
LOCATION:HOME - Westmont HS Stadium
URL;VALUE=URI:https://www.cusd201.org/whs/athletics/calendar/8127821/time-t
 bd-soccer-v-girls-vs-chicago-prep-conference-tournament-game
DTSTART:20260506T050000Z
DTEND:20260507T045900Z
END:VEVENT
END:VCALENDAR
