BEGIN:VCALENDAR
VERSION:2.0
PRODID:SchoolNow
CALSCALE:GREGORIAN
BEGIN:VEVENT
UID:4dcfefd0-300f-11f0-ac9f-02cc0c8379f7
DTSTAMP:20251216T154523Z
SUMMARY:SOFTBALL-V Girls - VS Holy Trinity (Game)
LOCATION:HOME - Westmont HS Softball Field
URL;VALUE=URI:https://www.cusd201.org/whs/athletics/calendar/8127824/softba
 ll-v-girls-vs-holy-trinity-game
DTSTART:20260316T213000Z
DTEND:20260316T233000Z
END:VEVENT
END:VCALENDAR
