BEGIN:VCALENDAR
VERSION:2.0
PRODID:SchoolNow
CALSCALE:GREGORIAN
BEGIN:VEVENT
UID:4dcff0d4-300f-11f0-afcb-02cc0c8379f7
DTSTAMP:20251216T154522Z
SUMMARY:TIME TBD- SOFTBALL-V Girls - VS CICS/Northtown (Game)
LOCATION:HOME - Westmont HS Softball Field
URL;VALUE=URI:https://www.cusd201.org/whs/athletics/calendar/8127825/time-t
 bd-softball-v-girls-vs-cics-northtown-game
DTSTART:20260408T050000Z
DTEND:20260409T045900Z
END:VEVENT
END:VCALENDAR
