BEGIN:VCALENDAR
VERSION:2.0
PRODID:SchoolNow
CALSCALE:GREGORIAN
BEGIN:VEVENT
UID:4dcff1b0-300f-11f0-9231-02cc0c8379f7
DTSTAMP:20251216T154523Z
SUMMARY:TIME TBD- SOFTBALL-V Girls @ Josephinum (Game)
LOCATION:Away - Josephinum
URL;VALUE=URI:https://www.cusd201.org/whs/athletics/calendar/8127826/time-t
 bd-softball-v-girls-josephinum-game
DTSTART:20260413T050000Z
DTEND:20260414T045900Z
END:VEVENT
END:VCALENDAR
