BEGIN:VCALENDAR
VERSION:2.0
PRODID:SchoolNow
CALSCALE:GREGORIAN
BEGIN:VEVENT
UID:4dcff296-300f-11f0-b282-02cc0c8379f7
DTSTAMP:20251216T154523Z
SUMMARY:TIME TBD- SOFTBALL-V Girls - VS Christ the King (Game)
LOCATION:HOME - Westmont HS Softball Field
URL;VALUE=URI:https://www.cusd201.org/whs/athletics/calendar/8127827/time-t
 bd-softball-v-girls-vs-christ-the-king-game
DTSTART:20260415T050000Z
DTEND:20260416T045900Z
END:VEVENT
END:VCALENDAR
