BEGIN:VCALENDAR
VERSION:2.0
PRODID:SchoolNow
CALSCALE:GREGORIAN
BEGIN:VEVENT
UID:4dcff372-300f-11f0-b981-02cc0c8379f7
DTSTAMP:20251216T154523Z
SUMMARY:TIME TBD- SOFTBALL-V Girls @ Our Lady of Tepeyac (Game)
LOCATION:Away - Our Lady of Tepeyac
URL;VALUE=URI:https://www.cusd201.org/whs/athletics/calendar/8127828/time-t
 bd-softball-v-girls-our-lady-of-tepeyac-game
DTSTART:20260420T050000Z
DTEND:20260421T045900Z
END:VEVENT
END:VCALENDAR
