BEGIN:VCALENDAR
VERSION:2.0
PRODID:SchoolNow
CALSCALE:GREGORIAN
BEGIN:VEVENT
UID:4dcff44e-300f-11f0-8eb9-02cc0c8379f7
DTSTAMP:20251216T154523Z
SUMMARY:TIME TBD- SOFTBALL-V Girls - VS Providence St. Mel (Game)
LOCATION:HOME - Westmont HS Softball Field
URL;VALUE=URI:https://www.cusd201.org/whs/athletics/calendar/8127829/time-t
 bd-softball-v-girls-vs-providence-st-mel-game
DTSTART:20260422T050000Z
DTEND:20260423T045900Z
END:VEVENT
END:VCALENDAR
