BEGIN:VCALENDAR
VERSION:2.0
PRODID:SchoolNow
CALSCALE:GREGORIAN
BEGIN:VEVENT
UID:4dcff52a-300f-11f0-adda-02cc0c8379f7
DTSTAMP:20251216T154523Z
SUMMARY:SOFTBALL-V Girls - VS Walther Christian Academy (Game)
LOCATION:HOME - Westmont HS Softball Field
URL;VALUE=URI:https://www.cusd201.org/whs/athletics/calendar/8127830/softba
 ll-v-girls-vs-walther-christian-academy-game
DTSTART:20260428T213000Z
DTEND:20260428T233000Z
END:VEVENT
END:VCALENDAR
