BEGIN:VCALENDAR
VERSION:2.0
PRODID:SchoolNow
CALSCALE:GREGORIAN
BEGIN:VEVENT
UID:4dcff5fc-300f-11f0-bd02-02cc0c8379f7
DTSTAMP:20251216T154523Z
SUMMARY:TIME TBD- SOFTBALL-V Girls @ Cristo Rey (Game)
LOCATION:Away - Cristo Rey
URL;VALUE=URI:https://www.cusd201.org/whs/athletics/calendar/8127831/time-t
 bd-softball-v-girls-cristo-rey-game
DTSTART:20260429T050000Z
DTEND:20260430T045900Z
END:VEVENT
END:VCALENDAR
