BEGIN:VCALENDAR
VERSION:2.0
PRODID:SchoolNow
CALSCALE:GREGORIAN
BEGIN:VEVENT
UID:4dcff89a-300f-11f0-9071-02cc0c8379f7
DTSTAMP:20251216T154522Z
SUMMARY:TIME TBD- SOFTBALL-V Girls @ Chicago Prep Conference - Rain Date (G
 ame)
LOCATION:Away -
URL;VALUE=URI:https://www.cusd201.org/whs/athletics/calendar/8127834/time-t
 bd-softball-v-girls-chicago-prep-conference-rain-date-game
DTSTART:20260506T050000Z
DTEND:20260507T045900Z
END:VEVENT
END:VCALENDAR
