BEGIN:VCALENDAR
VERSION:2.0
PRODID:SchoolNow
CALSCALE:GREGORIAN
BEGIN:VEVENT
UID:4dcffb2e-300f-11f0-9b6c-02cc0c8379f7
DTSTAMP:20251216T154522Z
SUMMARY:TIME TBD- BASEBALL-V Boys @ Chicago Prep Conference - Rain Date (Ga
 me)
LOCATION:Away -
URL;VALUE=URI:https://www.cusd201.org/whs/athletics/calendar/8127837/time-t
 bd-baseball-v-boys-chicago-prep-conference-rain-date-game
DTSTART:20260505T050000Z
DTEND:20260506T045900Z
END:VEVENT
END:VCALENDAR
