BEGIN:VCALENDAR
VERSION:2.0
PRODID:SchoolNow
CALSCALE:GREGORIAN
BEGIN:VEVENT
UID:4e199658-300f-11f0-be7b-02cc0c8379f7
DTSTAMP:20251216T154522Z
SUMMARY:TIME TBD- BASEBALL-V Boys @ Chicago Prep Conference - Rain Date (Ga
 me)
LOCATION:Away -
URL;VALUE=URI:https://www.cusd201.org/whs/athletics/calendar/8127839/time-t
 bd-baseball-v-boys-chicago-prep-conference-rain-date-game
DTSTART:20260430T050000Z
DTEND:20260501T045900Z
END:VEVENT
END:VCALENDAR
