BEGIN:VCALENDAR
VERSION:2.0
PRODID:SchoolNow
CALSCALE:GREGORIAN
BEGIN:VEVENT
UID:4e1997c0-300f-11f0-8779-02cc0c8379f7
DTSTAMP:20251216T154523Z
SUMMARY:TIME TBD- BASEBALL-V Boys @ Chicago Prep Conference - Rain Date (Ga
 me)
LOCATION:Away -
URL;VALUE=URI:https://www.cusd201.org/whs/athletics/calendar/8127840/time-t
 bd-baseball-v-boys-chicago-prep-conference-rain-date-game
DTSTART:20260501T050000Z
DTEND:20260502T045900Z
END:VEVENT
END:VCALENDAR
