BEGIN:VCALENDAR
VERSION:2.0
PRODID:SchoolNow
CALSCALE:GREGORIAN
BEGIN:VEVENT
UID:4e1998d8-300f-11f0-a093-02cc0c8379f7
DTSTAMP:20251216T154523Z
SUMMARY:TRACK and FIELD-V Girls - VS Chicago Prep Conference Meet (Game)
LOCATION:HOME - Westmont HS Stadium
URL;VALUE=URI:https://www.cusd201.org/whs/athletics/calendar/8127841/track-
 and-field-v-girls-vs-chicago-prep-conference-meet-game
DTSTART:20260507T213000Z
DTEND:20260508T023000Z
END:VEVENT
END:VCALENDAR
