BEGIN:VCALENDAR
VERSION:2.0
PRODID:SchoolNow
CALSCALE:GREGORIAN
BEGIN:VEVENT
UID:4e199ad6-300f-11f0-a3b4-02cc0c8379f7
DTSTAMP:20251216T154523Z
SUMMARY:CROSS COUNTRY-V Girls - VS Chicago Prep Conference Meet (Game)
LOCATION:HOME - Cross Country Course
URL;VALUE=URI:https://www.cusd201.org/whs/athletics/calendar/8127843/cross-
 country-v-girls-vs-chicago-prep-conference-meet-game
DTSTART:20251016T213000Z
DTEND:20251016T233000Z
END:VEVENT
END:VCALENDAR
