BEGIN:VCALENDAR
VERSION:2.0
PRODID:SchoolNow
CALSCALE:GREGORIAN
BEGIN:VEVENT
UID:4e199bd0-300f-11f0-844e-02cc0c8379f7
DTSTAMP:20251216T154523Z
SUMMARY:CROSS COUNTRY-V Boys - VS Chicago Prep Conference Meet (Game)
LOCATION:HOME - Cross Country Course
URL;VALUE=URI:https://www.cusd201.org/whs/athletics/calendar/8127844/cross-
 country-v-boys-vs-chicago-prep-conference-meet-game
DTSTART:20251016T213000Z
DTEND:20251016T233000Z
END:VEVENT
END:VCALENDAR
