BEGIN:VCALENDAR
VERSION:2.0
PRODID:SchoolNow
CALSCALE:GREGORIAN
BEGIN:VEVENT
UID:4e199e96-300f-11f0-a0fb-02cc0c8379f7
DTSTAMP:20251216T154522Z
SUMMARY:GOLF-JV Boys @ Evergreen Park (Game)
LOCATION:Away - Hickory Hills Country Club
URL;VALUE=URI:https://www.cusd201.org/whs/athletics/calendar/8127847/golf-j
 v-boys-evergreen-park-game
DTSTART:20250917T213000Z
DTEND:20250918T000000Z
END:VEVENT
END:VCALENDAR
