BEGIN:VCALENDAR
VERSION:2.0
PRODID:SchoolNow
CALSCALE:GREGORIAN
BEGIN:VEVENT
UID:4e199f7c-300f-11f0-ad34-02cc0c8379f7
DTSTAMP:20251216T154522Z
SUMMARY:TIME TBD- ADMINISTRATION-N - VS WINTER TEAM PICTURES (Game)
LOCATION:HOME -
URL;VALUE=URI:https://www.cusd201.org/whs/athletics/calendar/8127848/time-t
 bd-administration-n-vs-winter-team-pictures-game
DTSTART:20251119T060000Z
DTEND:20251120T055900Z
END:VEVENT
END:VCALENDAR
