BEGIN:VCALENDAR
VERSION:2.0
PRODID:SchoolNow
CALSCALE:GREGORIAN
BEGIN:VEVENT
UID:4e19a062-300f-11f0-94e4-02cc0c8379f7
DTSTAMP:20251216T154522Z
SUMMARY:TIME TBD- ADMINISTRATION-N - VS SPRING TEAM PICTURES (Game)
LOCATION:HOME -
URL;VALUE=URI:https://www.cusd201.org/whs/athletics/calendar/8127849/time-t
 bd-administration-n-vs-spring-team-pictures-game
DTSTART:20260311T050000Z
DTEND:20260312T045900Z
END:VEVENT
END:VCALENDAR
