BEGIN:VCALENDAR
VERSION:2.0
PRODID:SchoolNow
CALSCALE:GREGORIAN
BEGIN:VEVENT
UID:4e19a68e-300f-11f0-adbf-02cc0c8379f7
DTSTAMP:20251216T154523Z
SUMMARY:CROSS COUNTRY-V Girls - VS Multi-Team (Game)
LOCATION:HOME - Cross Country Course
URL;VALUE=URI:https://www.cusd201.org/whs/athletics/calendar/8127856/cross-
 country-v-girls-vs-multi-team-game
DTSTART:20250930T213000Z
DTEND:20250930T233000Z
END:VEVENT
END:VCALENDAR
