BEGIN:VCALENDAR
VERSION:2.0
PRODID:SchoolNow
CALSCALE:GREGORIAN
BEGIN:VEVENT
UID:4e19a8dc-300f-11f0-8dfa-02cc0c8379f7
DTSTAMP:20251216T154522Z
SUMMARY:BASKETBALL-V Boys - VS Peotone (Game)
LOCATION:HOME - Westmont HS Gym
URL;VALUE=URI:https://www.cusd201.org/whs/athletics/calendar/8127858/basket
 ball-v-boys-vs-peotone-game
DTSTART:20260124T200000Z
DTEND:20260124T213000Z
END:VEVENT
END:VCALENDAR
