BEGIN:VCALENDAR
VERSION:2.0
PRODID:SchoolNow
CALSCALE:GREGORIAN
BEGIN:VEVENT
UID:4e19a9c2-300f-11f0-880e-02cc0c8379f7
DTSTAMP:20251216T154523Z
SUMMARY:BASKETBALL-F Boys - VS Peotone (Game)
LOCATION:HOME - Westmont HS Gym
URL;VALUE=URI:https://www.cusd201.org/whs/athletics/calendar/8127859/basket
 ball-f-boys-vs-peotone-game
DTSTART:20260124T170000Z
DTEND:20260124T183000Z
END:VEVENT
END:VCALENDAR
