BEGIN:VCALENDAR
VERSION:2.0
PRODID:SchoolNow
CALSCALE:GREGORIAN
BEGIN:VEVENT
UID:4e19aa94-300f-11f0-b10e-02cc0c8379f7
DTSTAMP:20251216T154522Z
SUMMARY:BASKETBALL-S Boys - VS Peotone (Game)
LOCATION:HOME - Westmont HS Gym
URL;VALUE=URI:https://www.cusd201.org/whs/athletics/calendar/8127860/basket
 ball-s-boys-vs-peotone-game
DTSTART:20260124T183000Z
DTEND:20260124T200000Z
END:VEVENT
END:VCALENDAR
