BEGIN:VCALENDAR
VERSION:2.0
PRODID:SchoolNow
CALSCALE:GREGORIAN
BEGIN:VEVENT
UID:4e19ab70-300f-11f0-8987-02cc0c8379f7
DTSTAMP:20251216T154523Z
SUMMARY:BASKETBALL-S Boys - VS Soph Christmas Tournament (Game)
LOCATION:HOME - Westmont HS Gym
URL;VALUE=URI:https://www.cusd201.org/whs/athletics/calendar/8127861/basket
 ball-s-boys-vs-soph-christmas-tournament-game
DTSTART:20251215T220000Z
DTEND:20251216T030000Z
END:VEVENT
END:VCALENDAR
