BEGIN:VCALENDAR
VERSION:2.0
PRODID:SchoolNow
CALSCALE:GREGORIAN
BEGIN:VEVENT
UID:4e19ad28-300f-11f0-a6c6-02cc0c8379f7
DTSTAMP:20251216T154522Z
SUMMARY:BASKETBALL-S Boys - VS Soph Christmas Tournament (Game)
LOCATION:HOME - Westmont HS Gym
URL;VALUE=URI:https://www.cusd201.org/whs/athletics/calendar/8127863/basket
 ball-s-boys-vs-soph-christmas-tournament-game
DTSTART:20251220T150000Z
DTEND:20251220T190000Z
END:VEVENT
END:VCALENDAR
