BEGIN:VCALENDAR
VERSION:2.0
PRODID:SchoolNow
CALSCALE:GREGORIAN
BEGIN:VEVENT
UID:4e19b0a2-300f-11f0-9512-02cc0c8379f7
DTSTAMP:20251216T154522Z
SUMMARY:VOLLEYBALL-V Girls @ Lisle (Game)
LOCATION:Away - Lisle
URL;VALUE=URI:https://www.cusd201.org/whs/athletics/calendar/8127866/volley
 ball-v-girls-lisle-game
DTSTART:20250916T230000Z
DTEND:20250917T000000Z
END:VEVENT
END:VCALENDAR
