BEGIN:VCALENDAR
VERSION:2.0
PRODID:SchoolNow
CALSCALE:GREGORIAN
BEGIN:VEVENT
UID:4e19b462-300f-11f0-aca5-02cc0c8379f7
DTSTAMP:20251216T154522Z
SUMMARY:BASKETBALL-V Boys - VS ICCP/WMT Christmas Classic (Game)
LOCATION:HOME - Westmont HS Gym
URL;VALUE=URI:https://www.cusd201.org/whs/athletics/calendar/8127870/basket
 ball-v-boys-vs-iccp-wmt-christmas-classic-game
DTSTART:20251226T210000Z
DTEND:20251227T030000Z
END:VEVENT
END:VCALENDAR
