BEGIN:VCALENDAR
VERSION:2.0
PRODID:SchoolNow
CALSCALE:GREGORIAN
BEGIN:VEVENT
UID:4e19b980-300f-11f0-bc2f-02cc0c8379f7
DTSTAMP:20251216T154522Z
SUMMARY:CROSS COUNTRY-JV Girls @ Plainfield Central (Game)
LOCATION:Away - Plainfield Central
URL;VALUE=URI:https://www.cusd201.org/whs/athletics/calendar/8127876/cross-
 country-jv-girls-plainfield-central-game
DTSTART:20250906T140000Z
DTEND:20250906T170000Z
END:VEVENT
END:VCALENDAR
