BEGIN:VCALENDAR
VERSION:2.0
PRODID:SchoolNow
CALSCALE:GREGORIAN
BEGIN:VEVENT
UID:4e19ba52-300f-11f0-8812-02cc0c8379f7
DTSTAMP:20251216T154523Z
SUMMARY:CROSS COUNTRY-JV Boys @ Plainfield Central (Game)
LOCATION:Away - Plainfield Central
URL;VALUE=URI:https://www.cusd201.org/whs/athletics/calendar/8127877/cross-
 country-jv-boys-plainfield-central-game
DTSTART:20250906T140000Z
DTEND:20250906T170000Z
END:VEVENT
END:VCALENDAR
