BEGIN:VCALENDAR
VERSION:2.0
PRODID:SchoolNow
CALSCALE:GREGORIAN
BEGIN:VEVENT
UID:4e19bc00-300f-11f0-b732-02cc0c8379f7
DTSTAMP:20251216T154522Z
SUMMARY:GOLF-V Boys - VS St. Edward (Game)
LOCATION:HOME - Green Meadows
URL;VALUE=URI:https://www.cusd201.org/whs/athletics/calendar/8127879/golf-v
 -boys-vs-st-edward-game
DTSTART:20250915T210000Z
DTEND:20250915T233000Z
END:VEVENT
END:VCALENDAR
