BEGIN:VCALENDAR
VERSION:2.0
PRODID:SchoolNow
CALSCALE:GREGORIAN
BEGIN:VEVENT
UID:4e19bd04-300f-11f0-b62e-02cc0c8379f7
DTSTAMP:20251216T154523Z
SUMMARY:GOLF-JV Boys - VS St. Edward (Game)
LOCATION:HOME - Green Meadows
URL;VALUE=URI:https://www.cusd201.org/whs/athletics/calendar/8127880/golf-j
 v-boys-vs-st-edward-game
DTSTART:20250915T210000Z
DTEND:20250915T233000Z
END:VEVENT
END:VCALENDAR
