BEGIN:VCALENDAR
VERSION:2.0
PRODID:SchoolNow
CALSCALE:GREGORIAN
BEGIN:VEVENT
UID:4e19bea8-300f-11f0-8176-02cc0c8379f7
DTSTAMP:20251216T154522Z
SUMMARY:GOLF-V Boys @ Aurora Central Catholic (Game)
LOCATION:Away - Phillips Park
URL;VALUE=URI:https://www.cusd201.org/whs/athletics/calendar/8127882/golf-v
 -boys-aurora-central-catholic-game
DTSTART:20250913T130000Z
DTEND:20250913T180000Z
END:VEVENT
END:VCALENDAR
