BEGIN:VCALENDAR
VERSION:2.0
PRODID:SchoolNow
CALSCALE:GREGORIAN
BEGIN:VEVENT
UID:4e19c722-300f-11f0-92f2-02cc0c8379f7
DTSTAMP:20251216T154523Z
SUMMARY:VOLLEYBALL-V Girls - VS Chesterton Academy (Game)
LOCATION:HOME - Westmont HS Gym
URL;VALUE=URI:https://www.cusd201.org/whs/athletics/calendar/8127891/volley
 ball-v-girls-vs-chesterton-academy-game
DTSTART:20250911T000000Z
DTEND:20250911T010000Z
END:VEVENT
END:VCALENDAR
