BEGIN:VCALENDAR
VERSION:2.0
PRODID:SchoolNow
CALSCALE:GREGORIAN
BEGIN:VEVENT
UID:4e19c7f4-300f-11f0-a3ea-02cc0c8379f7
DTSTAMP:20251216T154522Z
SUMMARY:VOLLEYBALL-F Girls - VS Chesterton Academy (Game)
LOCATION:HOME - Westmont HS Gym
URL;VALUE=URI:https://www.cusd201.org/whs/athletics/calendar/8127892/volley
 ball-f-girls-vs-chesterton-academy-game
DTSTART:20250910T220000Z
DTEND:20250910T230000Z
END:VEVENT
END:VCALENDAR
