BEGIN:VCALENDAR
VERSION:2.0
PRODID:SchoolNow
CALSCALE:GREGORIAN
BEGIN:VEVENT
UID:4e19ca88-300f-11f0-b44b-02cc0c8379f7
DTSTAMP:20251216T154522Z
SUMMARY:VOLLEYBALL-JV Girls @ St. Edward (Game)
LOCATION:Away - St. Edward
URL;VALUE=URI:https://www.cusd201.org/whs/athletics/calendar/8127895/volley
 ball-jv-girls-st-edward-game
DTSTART:20250909T223000Z
DTEND:20250909T233000Z
END:VEVENT
END:VCALENDAR
