BEGIN:VCALENDAR
VERSION:2.0
PRODID:SchoolNow
CALSCALE:GREGORIAN
BEGIN:VEVENT
UID:4e19cc36-300f-11f0-b76d-02cc0c8379f7
DTSTAMP:20251216T154522Z
SUMMARY:TIME TBD- BASKETBALL-JV Boys @ Illinois Math & Science Academy (Gam
 e)
LOCATION:Away - Illinois Math & Science Academy
URL;VALUE=URI:https://www.cusd201.org/whs/athletics/calendar/8127897/time-t
 bd-basketball-jv-boys-illinois-math-science-academy-game
DTSTART:20251213T200000Z
DTEND:20251214T055900Z
END:VEVENT
END:VCALENDAR
