BEGIN:VCALENDAR
VERSION:2.0
PRODID:SchoolNow
CALSCALE:GREGORIAN
BEGIN:VEVENT
UID:4e19cd12-300f-11f0-94cf-02cc0c8379f7
DTSTAMP:20251216T154522Z
SUMMARY:TIME TBD- BASKETBALL-V Boys @ Illinois Math & Science Academy (Game
 )
LOCATION:Away - Illinois Math & Science Academy
URL;VALUE=URI:https://www.cusd201.org/whs/athletics/calendar/8127898/time-t
 bd-basketball-v-boys-illinois-math-science-academy-game
DTSTART:20251213T211500Z
DTEND:20251214T055900Z
END:VEVENT
END:VCALENDAR
