BEGIN:VCALENDAR
VERSION:2.0
PRODID:SchoolNow
CALSCALE:GREGORIAN
BEGIN:VEVENT
UID:4e19d078-300f-11f0-b9a8-02cc0c8379f7
DTSTAMP:20251216T154523Z
SUMMARY:GOLF-V Girls - VS Lisle (Game)
LOCATION:HOME - Green Meadows
URL;VALUE=URI:https://www.cusd201.org/whs/athletics/calendar/8127902/golf-v
 -girls-vs-lisle-game
DTSTART:20250923T202000Z
DTEND:20250923T230000Z
END:VEVENT
END:VCALENDAR
