BEGIN:VCALENDAR
VERSION:2.0
PRODID:SchoolNow
CALSCALE:GREGORIAN
BEGIN:VEVENT
UID:4e19d1b8-300f-11f0-b971-02cc0c8379f7
DTSTAMP:20251216T154523Z
SUMMARY:WRESTLING-V Boys @ Chicago Prep Conference Meet (Game)
LOCATION:Away - Ida Crown
URL;VALUE=URI:https://www.cusd201.org/whs/athletics/calendar/8127903/wrestl
 ing-v-boys-chicago-prep-conference-meet-game
DTSTART:20251211T233000Z
DTEND:20251212T020000Z
END:VEVENT
END:VCALENDAR
