BEGIN:VCALENDAR
VERSION:2.0
PRODID:SchoolNow
CALSCALE:GREGORIAN
BEGIN:VEVENT
UID:4e19d442-300f-11f0-89d7-02cc0c8379f7
DTSTAMP:20251216T154523Z
SUMMARY:TIME TBD- WRESTLING-JV Boys @ Glenbard South (Game)
LOCATION:Away - Glenbard South
URL;VALUE=URI:https://www.cusd201.org/whs/athletics/calendar/8127906/time-t
 bd-wrestling-jv-boys-glenbard-south-game
DTSTART:20251226T160000Z
DTEND:20251227T055900Z
END:VEVENT
END:VCALENDAR
