BEGIN:VCALENDAR
VERSION:2.0
PRODID:SchoolNow
CALSCALE:GREGORIAN
BEGIN:VEVENT
UID:4e19d51e-300f-11f0-a1d2-02cc0c8379f7
DTSTAMP:20251216T154523Z
SUMMARY:TIME TBD- WRESTLING-V Girls @ Glenbard South (Game)
LOCATION:Away - Glenbard South
URL;VALUE=URI:https://www.cusd201.org/whs/athletics/calendar/8127907/time-t
 bd-wrestling-v-girls-glenbard-south-game
DTSTART:20251226T160000Z
DTEND:20251227T055900Z
END:VEVENT
END:VCALENDAR
