BEGIN:VCALENDAR
VERSION:2.0
PRODID:SchoolNow
CALSCALE:GREGORIAN
BEGIN:VEVENT
UID:4e19d8de-300f-11f0-8af0-02cc0c8379f7
DTSTAMP:20251216T154523Z
SUMMARY:BASKETBALL-S Boys @ Lisle Thanksgiving Tournament (Game)
LOCATION:Away - Lisle Thanksgiving Tournament
URL;VALUE=URI:https://www.cusd201.org/whs/athletics/calendar/8127909/basket
 ball-s-boys-lisle-thanksgiving-tournament-game
DTSTART:20251126T010000Z
DTEND:20251126T030000Z
END:VEVENT
END:VCALENDAR
