BEGIN:VCALENDAR
VERSION:2.0
PRODID:SchoolNow
CALSCALE:GREGORIAN
BEGIN:VEVENT
UID:4e19d9e2-300f-11f0-9b70-02cc0c8379f7
DTSTAMP:20251216T154522Z
SUMMARY:BASKETBALL-S Boys @ Lisle Thanksgiving Tournament (Game)
LOCATION:Away - Lisle Thanksgiving Tournament
URL;VALUE=URI:https://www.cusd201.org/whs/athletics/calendar/8127910/basket
 ball-s-boys-lisle-thanksgiving-tournament-game
DTSTART:20251126T233000Z
DTEND:20251127T013000Z
END:VEVENT
END:VCALENDAR
