BEGIN:VCALENDAR
VERSION:2.0
PRODID:SchoolNow
CALSCALE:GREGORIAN
BEGIN:VEVENT
UID:4e19dac8-300f-11f0-8487-02cc0c8379f7
DTSTAMP:20251216T154523Z
SUMMARY:BASKETBALL-S Boys @ Lisle Thanksgiving Tournament (Game)
LOCATION:Away - Lisle Thanksgiving Tournament
URL;VALUE=URI:https://www.cusd201.org/whs/athletics/calendar/8127911/basket
 ball-s-boys-lisle-thanksgiving-tournament-game
DTSTART:20251129T010000Z
DTEND:20251129T030000Z
END:VEVENT
END:VCALENDAR
