BEGIN:VCALENDAR
VERSION:2.0
PRODID:SchoolNow
CALSCALE:GREGORIAN
BEGIN:VEVENT
UID:4e19dbae-300f-11f0-a7c5-02cc0c8379f7
DTSTAMP:20251216T154523Z
SUMMARY:BASKETBALL-V Boys @ Lisle Thanksgiving Tournament (Game)
LOCATION:Away - Lisle Thanksgiving Tournament
URL;VALUE=URI:https://www.cusd201.org/whs/athletics/calendar/8127912/basket
 ball-v-boys-lisle-thanksgiving-tournament-game
DTSTART:20251125T233000Z
DTEND:20251126T013000Z
END:VEVENT
END:VCALENDAR
