BEGIN:VCALENDAR
VERSION:2.0
PRODID:SchoolNow
CALSCALE:GREGORIAN
BEGIN:VEVENT
UID:4e19df32-300f-11f0-9e9b-02cc0c8379f7
DTSTAMP:20251216T154522Z
SUMMARY:TIME TBD- WRESTLING-V Boys @ Lisle (Game)
LOCATION:Away - Lisle
URL;VALUE=URI:https://www.cusd201.org/whs/athletics/calendar/8127915/time-t
 bd-wrestling-v-boys-lisle-game
DTSTART:20260117T150000Z
DTEND:20260118T055900Z
END:VEVENT
END:VCALENDAR
